BEGIN:VCALENDAR
VERSION:2.0
PRODID:-//St. Marien-Schule - ECPv6.15.20//NONSGML v1.0//EN
CALSCALE:GREGORIAN
METHOD:PUBLISH
X-WR-CALNAME:St. Marien-Schule
X-ORIGINAL-URL:https://st-marien-schule.de
X-WR-CALDESC:Veranstaltungen für St. Marien-Schule
REFRESH-INTERVAL;VALUE=DURATION:PT1H
X-Robots-Tag:noindex
X-PUBLISHED-TTL:PT1H
BEGIN:VTIMEZONE
TZID:Europe/Amsterdam
BEGIN:DAYLIGHT
TZOFFSETFROM:+0100
TZOFFSETTO:+0200
TZNAME:CEST
DTSTART:20240331T010000
END:DAYLIGHT
BEGIN:STANDARD
TZOFFSETFROM:+0200
TZOFFSETTO:+0100
TZNAME:CET
DTSTART:20241027T010000
END:STANDARD
BEGIN:DAYLIGHT
TZOFFSETFROM:+0100
TZOFFSETTO:+0200
TZNAME:CEST
DTSTART:20250330T010000
END:DAYLIGHT
BEGIN:STANDARD
TZOFFSETFROM:+0200
TZOFFSETTO:+0100
TZNAME:CET
DTSTART:20251026T010000
END:STANDARD
BEGIN:DAYLIGHT
TZOFFSETFROM:+0100
TZOFFSETTO:+0200
TZNAME:CEST
DTSTART:20260329T010000
END:DAYLIGHT
BEGIN:STANDARD
TZOFFSETFROM:+0200
TZOFFSETTO:+0100
TZNAME:CET
DTSTART:20261025T010000
END:STANDARD
END:VTIMEZONE
BEGIN:VEVENT
DTSTART;VALUE=DATE:20251101
DTEND;VALUE=DATE:20251102
DTSTAMP:20260422T123149
CREATED:20240229T101906Z
LAST-MODIFIED:20240229T115800Z
UID:64794-1761955200-1762041599@st-marien-schule.de
SUMMARY:Allerheiligen
DESCRIPTION:
URL:https://st-marien-schule.de/event/allerheiligen-7/
CATEGORIES:Feiertag
END:VEVENT
BEGIN:VEVENT
DTSTART;VALUE=DATE:20251103
DTEND;VALUE=DATE:20251104
DTSTAMP:20260422T123149
CREATED:20251103T153735Z
LAST-MODIFIED:20251103T153735Z
UID:68199-1762128000-1762214399@st-marien-schule.de
SUMMARY:Nein - Tonne
DESCRIPTION:Für Klasse 2
URL:https://st-marien-schule.de/event/nein-tonne/
CATEGORIES:2. Klassen
END:VEVENT
BEGIN:VEVENT
DTSTART;TZID=Europe/Amsterdam:20251103T080000
DTEND;TZID=Europe/Amsterdam:20251103T170000
DTSTAMP:20260422T123149
CREATED:20251103T154413Z
LAST-MODIFIED:20251103T154413Z
UID:68205-1762156800-1762189200@st-marien-schule.de
SUMMARY:Ganztagsfortbildung
DESCRIPTION:Das gesamte Team aus Kollegium und OGS nimmt an einer Fortbildung teil.\nEs findet also kein Unterricht und keine Betreuung statt!!!
URL:https://st-marien-schule.de/event/ganztagsfortbildung/
CATEGORIES:alle Klassen
END:VEVENT
BEGIN:VEVENT
DTSTART;TZID=Europe/Amsterdam:20251106T170000
DTEND;TZID=Europe/Amsterdam:20251106T190000
DTSTAMP:20260422T123149
CREATED:20250908T100652Z
LAST-MODIFIED:20250908T100652Z
UID:67943-1762448400-1762455600@st-marien-schule.de
SUMMARY:Martinsumzug
DESCRIPTION:
URL:https://st-marien-schule.de/event/martinsumzug/
CATEGORIES:alle Klassen
END:VEVENT
BEGIN:VEVENT
DTSTART;VALUE=DATE:20251110
DTEND;VALUE=DATE:20251122
DTSTAMP:20260422T123149
CREATED:20250825T142543Z
LAST-MODIFIED:20250825T142645Z
UID:67815-1762732800-1763769599@st-marien-schule.de
SUMMARY:Sprechtagswochen Klasse 1 - 3
DESCRIPTION:
URL:https://st-marien-schule.de/event/sprechtagswoche-klasse-1-3/
END:VEVENT
BEGIN:VEVENT
DTSTART;VALUE=DATE:20251110
DTEND;VALUE=DATE:20251122
DTSTAMP:20260422T123149
CREATED:20251103T154730Z
LAST-MODIFIED:20251103T154730Z
UID:68210-1762732800-1763769599@st-marien-schule.de
SUMMARY:Informatikbiber
DESCRIPTION:
URL:https://st-marien-schule.de/event/informatikbiber/
END:VEVENT
BEGIN:VEVENT
DTSTART;VALUE=DATE:20251117
DTEND;VALUE=DATE:20251119
DTSTAMP:20260422T123149
CREATED:20251103T153836Z
LAST-MODIFIED:20251103T153836Z
UID:68201-1763337600-1763510399@st-marien-schule.de
SUMMARY:Zahnärztin
DESCRIPTION:
URL:https://st-marien-schule.de/event/zahnaerztin/
END:VEVENT
BEGIN:VEVENT
DTSTART;VALUE=DATE:20251118
DTEND;VALUE=DATE:20251120
DTSTAMP:20260422T123149
CREATED:20251103T153930Z
LAST-MODIFIED:20251103T154303Z
UID:68203-1763424000-1763596799@st-marien-schule.de
SUMMARY:Handballtage
DESCRIPTION:alle Klassen
URL:https://st-marien-schule.de/event/handballtage/
END:VEVENT
BEGIN:VEVENT
DTSTART;TZID=Europe/Amsterdam:20251119T180000
DTEND;TZID=Europe/Amsterdam:20251119T190000
DTSTAMP:20260422T123149
CREATED:20251113T074206Z
LAST-MODIFIED:20251113T074351Z
UID:68262-1763575200-1763578800@st-marien-schule.de
SUMMARY:Jahresversammlung Förderverein
DESCRIPTION:
URL:https://st-marien-schule.de/event/jahresversammlung-foerderverein/
LOCATION:Klassenraum der 2c
END:VEVENT
BEGIN:VEVENT
DTSTART;VALUE=DATE:20251120
DTEND;VALUE=DATE:20251121
DTSTAMP:20260422T123149
CREATED:20250825T145331Z
LAST-MODIFIED:20250825T145331Z
UID:67825-1763596800-1763683199@st-marien-schule.de
SUMMARY:Projekttag Kinderrechte
DESCRIPTION:
URL:https://st-marien-schule.de/event/projekttag-kinderrechte/
END:VEVENT
BEGIN:VEVENT
DTSTART;TZID=Europe/Amsterdam:20251121T100000
DTEND;TZID=Europe/Amsterdam:20251121T110000
DTSTAMP:20260422T123149
CREATED:20250908T100813Z
LAST-MODIFIED:20250908T100813Z
UID:67945-1763719200-1763722800@st-marien-schule.de
SUMMARY:Vorlesetag
DESCRIPTION:
URL:https://st-marien-schule.de/event/vorlesetag/
END:VEVENT
BEGIN:VEVENT
DTSTART;TZID=Europe/Amsterdam:20251124T190000
DTEND;TZID=Europe/Amsterdam:20251124T203000
DTSTAMP:20260422T123149
CREATED:20250908T100938Z
LAST-MODIFIED:20250908T100938Z
UID:67947-1764010800-1764016200@st-marien-schule.de
SUMMARY:Elternabend „Entspannter lernen zu Hause“
DESCRIPTION:
URL:https://st-marien-schule.de/event/elternabend-entspannter-lernen-zu-hause/
END:VEVENT
BEGIN:VEVENT
DTSTART;VALUE=DATE:20251126
DTEND;VALUE=DATE:20251127
DTSTAMP:20260422T123149
CREATED:20251124T075949Z
LAST-MODIFIED:20251124T080939Z
UID:68283-1764115200-1764201599@st-marien-schule.de
SUMMARY:Ganztagsfortbildung
DESCRIPTION:kein Unterricht und keine Betreuung
URL:https://st-marien-schule.de/event/kein-unterricht/
CATEGORIES:alle Klassen
END:VEVENT
BEGIN:VEVENT
DTSTART;TZID=Europe/Amsterdam:20251128T120000
DTEND;TZID=Europe/Amsterdam:20251128T140000
DTSTAMP:20260422T123149
CREATED:20250908T101030Z
LAST-MODIFIED:20251201T152847Z
UID:67949-1764331200-1764338400@st-marien-schule.de
SUMMARY:Adventmarkt
DESCRIPTION:
URL:https://st-marien-schule.de/event/adventmarkt/
END:VEVENT
BEGIN:VEVENT
DTSTART;VALUE=DATE:20251130
DTEND;VALUE=DATE:20251201
DTSTAMP:20260422T123149
CREATED:20240229T105721Z
LAST-MODIFIED:20240229T110927Z
UID:64851-1764460800-1764547199@st-marien-schule.de
SUMMARY:1. Advent
DESCRIPTION:
URL:https://st-marien-schule.de/event/1-advent-2/
END:VEVENT
END:VCALENDAR