BEGIN:VCALENDAR
VERSION:2.0
PRODID:-//St. Marien-Schule - ECPv6.15.20//NONSGML v1.0//EN
CALSCALE:GREGORIAN
METHOD:PUBLISH
X-WR-CALNAME:St. Marien-Schule
X-ORIGINAL-URL:https://st-marien-schule.de
X-WR-CALDESC:Veranstaltungen für St. Marien-Schule
REFRESH-INTERVAL;VALUE=DURATION:PT1H
X-Robots-Tag:noindex
X-PUBLISHED-TTL:PT1H
BEGIN:VTIMEZONE
TZID:Europe/Amsterdam
BEGIN:DAYLIGHT
TZOFFSETFROM:+0100
TZOFFSETTO:+0200
TZNAME:CEST
DTSTART:20240331T010000
END:DAYLIGHT
BEGIN:STANDARD
TZOFFSETFROM:+0200
TZOFFSETTO:+0100
TZNAME:CET
DTSTART:20241027T010000
END:STANDARD
BEGIN:DAYLIGHT
TZOFFSETFROM:+0100
TZOFFSETTO:+0200
TZNAME:CEST
DTSTART:20250330T010000
END:DAYLIGHT
BEGIN:STANDARD
TZOFFSETFROM:+0200
TZOFFSETTO:+0100
TZNAME:CET
DTSTART:20251026T010000
END:STANDARD
BEGIN:DAYLIGHT
TZOFFSETFROM:+0100
TZOFFSETTO:+0200
TZNAME:CEST
DTSTART:20260329T010000
END:DAYLIGHT
BEGIN:STANDARD
TZOFFSETFROM:+0200
TZOFFSETTO:+0100
TZNAME:CET
DTSTART:20261025T010000
END:STANDARD
END:VTIMEZONE
BEGIN:VEVENT
DTSTART;VALUE=DATE:20251003
DTEND;VALUE=DATE:20251004
DTSTAMP:20260422T123151
CREATED:20240229T101906Z
LAST-MODIFIED:20240229T115732Z
UID:64793-1759449600-1759535999@st-marien-schule.de
SUMMARY:Tag der Deutschen Einheit
DESCRIPTION:
URL:https://st-marien-schule.de/event/tag-der-deutschen-einheit-8/
CATEGORIES:Feiertag
END:VEVENT
BEGIN:VEVENT
DTSTART;VALUE=DATE:20251006
DTEND;VALUE=DATE:20251011
DTSTAMP:20260422T123151
CREATED:20250825T135626Z
LAST-MODIFIED:20250825T144006Z
UID:66394-1759708800-1760140799@st-marien-schule.de
SUMMARY:Schulanmeldung für das Schuljahr 2026/2027
DESCRIPTION:
URL:https://st-marien-schule.de/event/schulanmeldung-fuer-das-schuljar-2025-2026/
END:VEVENT
BEGIN:VEVENT
DTSTART;VALUE=DATE:20251010
DTEND;VALUE=DATE:20251011
DTSTAMP:20260422T123151
CREATED:20250825T141613Z
LAST-MODIFIED:20250825T141613Z
UID:67795-1760054400-1760140799@st-marien-schule.de
SUMMARY:Erntedank-Andacht
DESCRIPTION:
URL:https://st-marien-schule.de/event/erntedank-andacht/
END:VEVENT
BEGIN:VEVENT
DTSTART;TZID=Europe/Amsterdam:20251013T000000
DTEND;TZID=Europe/Amsterdam:20251025T000000
DTSTAMP:20260422T123151
CREATED:20240229T105857Z
LAST-MODIFIED:20240229T105857Z
UID:64863-1760313600-1761350400@st-marien-schule.de
SUMMARY:Herbstferein
DESCRIPTION:
URL:https://st-marien-schule.de/event/herbstferein/
CATEGORIES:Ferien
END:VEVENT
BEGIN:VEVENT
DTSTART;TZID=Europe/Amsterdam:20251031T170000
DTEND;TZID=Europe/Amsterdam:20251031T200000
DTSTAMP:20260422T123151
CREATED:20250908T100540Z
LAST-MODIFIED:20251028T201624Z
UID:67941-1761930000-1761940800@st-marien-schule.de
SUMMARY:Rübengeisterumzug
DESCRIPTION:Leider musste der Förderverein den Stand beim Rübengeisterumzug absagen.
URL:https://st-marien-schule.de/event/ruebengeisterumzug/
END:VEVENT
END:VCALENDAR